BEGIN:VCALENDAR
VERSION:2.0
PRODID:-//Ansche Chesed - ECPv5.6.0//NONSGML v1.0//EN
CALSCALE:GREGORIAN
METHOD:PUBLISH
X-WR-CALNAME:Ansche Chesed
X-ORIGINAL-URL:https://anschechesed.org
X-WR-CALDESC:Events for Ansche Chesed
BEGIN:VTIMEZONE
TZID:America/New_York
BEGIN:DAYLIGHT
TZOFFSETFROM:-0500
TZOFFSETTO:-0400
TZNAME:EDT
DTSTART:20170312T070000
END:DAYLIGHT
BEGIN:STANDARD
TZOFFSETFROM:-0400
TZOFFSETTO:-0500
TZNAME:EST
DTSTART:20171105T060000
END:STANDARD
END:VTIMEZONE
BEGIN:VEVENT
DTSTART;TZID=America/New_York:20170225T190000
DTEND;TZID=America/New_York:20170225T230000
DTSTAMP:20260421T052749
CREATED:20170126T163924Z
LAST-MODIFIED:20170214T193707Z
UID:201946-1488049200-1488063600@anschechesed.org
SUMMARY:Ansche Chesed Winter Dance
DESCRIPTION:FEBRUARY 25TH FROM 7-11PM \nAdvance tickets by February 19th include a glass of beer or wine \nCost: $15 for members; $18 for nonmembers; $20 at the door \nBoard games and light refreshments! \nCouples and singles welcome! \n7pm: Square Dancing. Beginners welcome! \n8:30-11pm: Dance to the music you love! Swing\, Disco\, R&B\, Motown\, Salsa\, and more! \nRegister here.
URL:https://anschechesed.org/calendar-item/ansche-chesed-winter-dance/
LOCATION:Ansche Chesed
CATEGORIES:Program
END:VEVENT
END:VCALENDAR