BEGIN:VCALENDAR
VERSION:2.0
PRODID:-//Ansche Chesed - ECPv5.6.0//NONSGML v1.0//EN
CALSCALE:GREGORIAN
METHOD:PUBLISH
X-WR-CALNAME:Ansche Chesed
X-ORIGINAL-URL:https://anschechesed.org
X-WR-CALDESC:Events for Ansche Chesed
BEGIN:VTIMEZONE
TZID:America/New_York
BEGIN:DAYLIGHT
TZOFFSETFROM:-0500
TZOFFSETTO:-0400
TZNAME:EDT
DTSTART:20210314T070000
END:DAYLIGHT
BEGIN:STANDARD
TZOFFSETFROM:-0400
TZOFFSETTO:-0500
TZNAME:EST
DTSTART:20211107T060000
END:STANDARD
END:VTIMEZONE
BEGIN:VEVENT
DTSTART;TZID=America/New_York:20210510T190000
DTEND;TZID=America/New_York:20210510T203000
DTSTAMP:20260422T025217
CREATED:20210316T142111Z
LAST-MODIFIED:20210316T150542Z
UID:347170-1620673200-1620678600@anschechesed.org
SUMMARY:Connecting To My Shtetl
DESCRIPTION:Starting with her own mishpucha from Poland and Galicia\, Barbara Sontz has been researching Jewish family histories since 1999\, She travelled on paths that led her back in time to the 18th century and on present-day trips to Poland\, Israel and Argentina. She has a special connection to her mother’s birthplace in Ilza\, Poland\, where she visited and organized projects devoted to restoring the history of the town’s former Jewish residents. \nBarbara will share her journey with you. \nA member of Ansche Chesed and the West Side Minyan\, Barbara Sontz is a professional genealogist. \nIn a follow-up workshop\, limited to 12 participants\, she will guide you through how to connect with your shtetl. Click here for more information\, and to register for the follow-up workshop \nJOIN VIA ZOOM\nMeeting ID: 878 4808 0648\nPasscode: Salon
URL:https://anschechesed.org/calendar-item/connecting-to-my-shtetl-2/
CATEGORIES:Program
END:VEVENT
END:VCALENDAR