BEGIN:VCALENDAR
VERSION:2.0
PRODID:-//Ansche Chesed - ECPv5.6.0//NONSGML v1.0//EN
CALSCALE:GREGORIAN
METHOD:PUBLISH
X-WR-CALNAME:Ansche Chesed
X-ORIGINAL-URL:https://anschechesed.org
X-WR-CALDESC:Events for Ansche Chesed
BEGIN:VTIMEZONE
TZID:America/New_York
BEGIN:DAYLIGHT
TZOFFSETFROM:-0500
TZOFFSETTO:-0400
TZNAME:EDT
DTSTART:20210314T070000
END:DAYLIGHT
BEGIN:STANDARD
TZOFFSETFROM:-0400
TZOFFSETTO:-0500
TZNAME:EST
DTSTART:20211107T060000
END:STANDARD
END:VTIMEZONE
BEGIN:VEVENT
DTSTART;TZID=America/New_York:20210519T150000
DTEND;TZID=America/New_York:20210519T163000
DTSTAMP:20260422T010941
CREATED:20210519T043033Z
LAST-MODIFIED:20210625T150403Z
UID:347166-1621436400-1621441800@anschechesed.org
SUMMARY:Connecting to Your Shtetl
DESCRIPTION:As a follow-up to her presentation “Connecting To My Shtetl”\,  join Barbara Sontz to explore how YOU can connect to your genealogy. In this intimate workshop\, Barbara will explore the steps you can take to learn about where your family comes from. \nThis is a four-session workshop\, and we hope that you will attend all of the sessions. \nSession 1- May 19: Locating your ancestral town. \nSession 2- June 2: Researching your town’s history. \nSession 3- June 30 (RESCHEDULED): Finding traces of your family in your town. \nSession 4- July 14: Connecting with your town today.
URL:https://anschechesed.org/calendar-item/connecting-to-your-shtetl/2021-05-19/
CATEGORIES:Program
END:VEVENT
END:VCALENDAR