BEGIN:VCALENDAR
VERSION:2.0
PRODID:-//Ansche Chesed - ECPv5.6.0//NONSGML v1.0//EN
CALSCALE:GREGORIAN
METHOD:PUBLISH
X-WR-CALNAME:Ansche Chesed
X-ORIGINAL-URL:https://anschechesed.org
X-WR-CALDESC:Events for Ansche Chesed
BEGIN:VTIMEZONE
TZID:America/New_York
BEGIN:DAYLIGHT
TZOFFSETFROM:-0500
TZOFFSETTO:-0400
TZNAME:EDT
DTSTART:20210314T070000
END:DAYLIGHT
BEGIN:STANDARD
TZOFFSETFROM:-0400
TZOFFSETTO:-0500
TZNAME:EST
DTSTART:20211107T060000
END:STANDARD
END:VTIMEZONE
BEGIN:VEVENT
DTSTART;TZID=America/New_York:20210516T193000
DTEND;TZID=America/New_York:20210516T210000
DTSTAMP:20260421T233855
CREATED:20210414T162541Z
LAST-MODIFIED:20210414T162541Z
UID:347323-1621193400-1621198800@anschechesed.org
SUMMARY:Erev Shavuot Services
DESCRIPTION:Please join the Ansche Chesed community for the fully egalitarian Sanctuary Service\, led by Rabbi Jeremy Kalmanofsky\, Cantor Natasha Hirschhorn\, and Rabbi Yael Hammerman. \nWe are able to welcome thirty-five vaccinated people to our services on the AC Roof. If you would like to request attendance at this service\, please complete this form. \nJOIN US VIA ZOOM\nor call: 929 205 6099\,\n\n\n\nMeeting ID: 875 1782 0145\nPasscode: Shabbat\n\n\n 
URL:https://anschechesed.org/calendar-item/erev-shavuot-services/
CATEGORIES:Service
ATTACH;FMTTYPE=image/jpeg:https://anschechesed.org/wp-content/uploads/2016/04/window.jpg
END:VEVENT
END:VCALENDAR