BEGIN:VCALENDAR
VERSION:2.0
PRODID:-//Ansche Chesed - ECPv5.6.0//NONSGML v1.0//EN
CALSCALE:GREGORIAN
METHOD:PUBLISH
X-WR-CALNAME:Ansche Chesed
X-ORIGINAL-URL:https://anschechesed.org
X-WR-CALDESC:Events for Ansche Chesed
BEGIN:VTIMEZONE
TZID:America/New_York
BEGIN:DAYLIGHT
TZOFFSETFROM:-0500
TZOFFSETTO:-0400
TZNAME:EDT
DTSTART:20210314T070000
END:DAYLIGHT
BEGIN:STANDARD
TZOFFSETFROM:-0400
TZOFFSETTO:-0500
TZNAME:EST
DTSTART:20211107T060000
END:STANDARD
END:VTIMEZONE
BEGIN:VEVENT
DTSTART;TZID=America/New_York:20210429T190000
DTEND;TZID=America/New_York:20210429T203000
DTSTAMP:20260422T055407
CREATED:20210304T015405Z
LAST-MODIFIED:20210304T015717Z
UID:347082-1619722800-1619728200@anschechesed.org
SUMMARY:Everything You Wanted To Know About Podcasts* (*But Were Afraid To Ask) with  Liel Leibovitz and Darone Ruskay
DESCRIPTION:Technology\, as they say\, is always changing. We have gone from three television networks\, to hundreds of channels\, renting video tapes at our local store\, to streaming our content from one of the many streaming options now available. And talk radio\, well that has been replaced as well\, by  audio on demand in the form of Podcasts. \nJoin Ansche Chesed member Liel Leibovitz\, host of the Unorthodox\, Page One and Hebrew School podcasts from Tablet Magazine and Ansche Chesed Director of Programming\, Darone Ruskay\, creator of JCast Network\, the first Jewish podcast network as they discuss the ins and outs of podcasts\, what makes them interesting to the larger world\, share their favorite podcasts\, and  answer questions for the podcast-curious. \nJOIN VIA ZOOM \nMeeting ID: 878 4808 0648\nPasscode: Salon
URL:https://anschechesed.org/calendar-item/everything-you-wanted-to-know-about-podcasts-but-were-afraid-to-ask-with-liel-leibovitz-and-darone-ruskay/
CATEGORIES:Program
ATTACH;FMTTYPE=image/png:https://anschechesed.org/wp-content/uploads/2021/03/LielPodcasting.png
END:VEVENT
END:VCALENDAR