BEGIN:VCALENDAR
VERSION:2.0
PRODID:-//Ansche Chesed - ECPv5.6.0//NONSGML v1.0//EN
CALSCALE:GREGORIAN
METHOD:PUBLISH
X-WR-CALNAME:Ansche Chesed
X-ORIGINAL-URL:https://anschechesed.org
X-WR-CALDESC:Events for Ansche Chesed
BEGIN:VTIMEZONE
TZID:America/New_York
BEGIN:DAYLIGHT
TZOFFSETFROM:-0500
TZOFFSETTO:-0400
TZNAME:EDT
DTSTART:20210314T070000
END:DAYLIGHT
BEGIN:STANDARD
TZOFFSETFROM:-0400
TZOFFSETTO:-0500
TZNAME:EST
DTSTART:20211107T060000
END:STANDARD
END:VTIMEZONE
BEGIN:VEVENT
DTSTART;TZID=America/New_York:20210516T150000
DTEND;TZID=America/New_York:20210516T160000
DTSTAMP:20260422T011135
CREATED:20210430T144124Z
LAST-MODIFIED:20210430T145655Z
UID:347399-1621177200-1621180800@anschechesed.org
SUMMARY:Family Shavuot Pop-Up and Popsicles
DESCRIPTION:Come by Ansche Chesed on Sunday\, May 16th from 3:00-4:30 PM to celebrate Shavuot with popsicles and crafts with Rabbi Yael Hammerman! May the words of Torah be sweet in your mouths! The event will be on the AC steps (100th and West End Avenue). \nRegistrations requested; walk-ins welcome.
URL:https://anschechesed.org/calendar-item/family-shavuot-pop-up-and-popsicles/
CATEGORIES:Family Program,Shavuot
END:VEVENT
END:VCALENDAR