BEGIN:VCALENDAR
VERSION:2.0
PRODID:-//Ansche Chesed - ECPv5.6.0//NONSGML v1.0//EN
CALSCALE:GREGORIAN
METHOD:PUBLISH
X-WR-CALNAME:Ansche Chesed
X-ORIGINAL-URL:https://anschechesed.org
X-WR-CALDESC:Events for Ansche Chesed
BEGIN:VTIMEZONE
TZID:America/New_York
BEGIN:DAYLIGHT
TZOFFSETFROM:-0500
TZOFFSETTO:-0400
TZNAME:EDT
DTSTART:20170312T070000
END:DAYLIGHT
BEGIN:STANDARD
TZOFFSETFROM:-0400
TZOFFSETTO:-0500
TZNAME:EST
DTSTART:20171105T060000
END:STANDARD
END:VTIMEZONE
BEGIN:VEVENT
DTSTART;TZID=America/New_York:20170921T181500
DTEND;TZID=America/New_York:20170921T191500
DTSTAMP:20260421T212911
CREATED:20170910T231404Z
LAST-MODIFIED:20170910T231404Z
UID:299403-1506017700-1506021300@anschechesed.org
SUMMARY:Minha/Ma’ariv
DESCRIPTION:
URL:https://anschechesed.org/calendar-item/minhamaariv/
LOCATION:Chapel
CATEGORIES:Service
END:VEVENT
END:VCALENDAR