BEGIN:VCALENDAR
VERSION:2.0
PRODID:-//Ansche Chesed - ECPv5.6.0//NONSGML v1.0//EN
CALSCALE:GREGORIAN
METHOD:PUBLISH
X-WR-CALNAME:Ansche Chesed
X-ORIGINAL-URL:https://anschechesed.org
X-WR-CALDESC:Events for Ansche Chesed
BEGIN:VTIMEZONE
TZID:America/New_York
BEGIN:DAYLIGHT
TZOFFSETFROM:-0500
TZOFFSETTO:-0400
TZNAME:EDT
DTSTART:20250309T070000
END:DAYLIGHT
BEGIN:STANDARD
TZOFFSETFROM:-0400
TZOFFSETTO:-0500
TZNAME:EST
DTSTART:20251102T060000
END:STANDARD
END:VTIMEZONE
BEGIN:VEVENT
DTSTART;TZID=America/New_York:20250923T164500
DTEND;TZID=America/New_York:20250923T164500
DTSTAMP:20260419T173705
CREATED:20200910T133134Z
LAST-MODIFIED:20250912T193424Z
UID:345522-1758645900-1758645900@anschechesed.org
SUMMARY:Tashlikh
DESCRIPTION:Please join us for the ritual casting off of our sins. We will meet at Ansche Chesed at 4:45pm to walk to the Hudson River. Please bring something to toss! \nWhile many people throw bread crumbs\, anything may be tossed in. We invite you to bring either crumbs\, or something more sustainable such as chopped lettuce or grated carrots\, dry/unsalted & unflavored oats\, or birdseed\, or to gather pebbles\, twigs and leaves in the park\, in order to protect the Hudson River ecosystem.  Learn more about bread-free alternatives \n 
URL:https://anschechesed.org/calendar-item/tashlikh-2/
CATEGORIES:High Holidays,Program,Service
END:VEVENT
END:VCALENDAR