BEGIN:VCALENDAR
VERSION:2.0
PRODID:-//Ansche Chesed - ECPv5.6.0//NONSGML v1.0//EN
CALSCALE:GREGORIAN
METHOD:PUBLISH
X-WR-CALNAME:Ansche Chesed
X-ORIGINAL-URL:https://anschechesed.org
X-WR-CALDESC:Events for Ansche Chesed
BEGIN:VTIMEZONE
TZID:America/New_York
BEGIN:DAYLIGHT
TZOFFSETFROM:-0500
TZOFFSETTO:-0400
TZNAME:EDT
DTSTART:20170312T070000
END:DAYLIGHT
BEGIN:STANDARD
TZOFFSETFROM:-0400
TZOFFSETTO:-0500
TZNAME:EST
DTSTART:20171105T060000
END:STANDARD
END:VTIMEZONE
BEGIN:VEVENT
DTSTART;TZID=America/New_York:20170921T093000
DTEND;TZID=America/New_York:20170921T133000
DTSTAMP:20260421T201039
CREATED:20170910T231127Z
LAST-MODIFIED:20170910T231127Z
UID:299398-1505986200-1506000600@anschechesed.org
SUMMARY:West Side Minyan
DESCRIPTION:Join West Side Minyan for Rosh HaShanah services.
URL:https://anschechesed.org/calendar-item/west-side-minyan-2/2017-09-21/
CATEGORIES:Service
END:VEVENT
END:VCALENDAR