BEGIN:VCALENDAR
VERSION:2.0
PRODID:-//Ansche Chesed - ECPv5.6.0//NONSGML v1.0//EN
CALSCALE:GREGORIAN
METHOD:PUBLISH
X-WR-CALNAME:Ansche Chesed
X-ORIGINAL-URL:https://anschechesed.org
X-WR-CALDESC:Events for Ansche Chesed
BEGIN:VTIMEZONE
TZID:America/New_York
BEGIN:DAYLIGHT
TZOFFSETFROM:-0500
TZOFFSETTO:-0400
TZNAME:EDT
DTSTART:20250309T070000
END:DAYLIGHT
BEGIN:STANDARD
TZOFFSETFROM:-0400
TZOFFSETTO:-0500
TZNAME:EST
DTSTART:20251102T060000
END:STANDARD
END:VTIMEZONE
BEGIN:VEVENT
DTSTART;TZID=America/New_York:20251214T100000
DTEND;TZID=America/New_York:20251214T113000
DTSTAMP:20260424T120320
CREATED:20231114T210430Z
LAST-MODIFIED:20251208T212133Z
UID:355519-1765706400-1765711800@anschechesed.org
SUMMARY:Intergenerational Mitzvah Knitting Group
DESCRIPTION:Knitters needed! Please join our intergenerational AC Mitzvah Knitting Group. Bubbies\, bring your grandkids; kids – bring your parents.
URL:https://anschechesed.org/calendar-item/ac-intergenerational-mitzvah-knitting-group/2025-12-14/
LOCATION:Mayer Cavalier Chapel\, 251 West 100th St.\, New York\, NY\, 10025\, United States
CATEGORIES:Family Program,Program
GEO:40.7978378;-73.9708521
X-APPLE-STRUCTURED-LOCATION;VALUE=URI;X-ADDRESS=Mayer Cavalier Chapel 251 West 100th St. New York NY 10025 United States;X-APPLE-RADIUS=500;X-TITLE=251 West 100th St.:geo:-73.9708521,40.7978378
END:VEVENT
BEGIN:VEVENT
DTSTART;TZID=America/New_York:20251214T180000
DTEND;TZID=America/New_York:20251214T190000
DTSTAMP:20260424T120320
CREATED:20251208T213037Z
LAST-MODIFIED:20251208T213038Z
UID:360278-1765735200-1765738800@anschechesed.org
SUMMARY:AC Teen Chanukah Party
DESCRIPTION:Happy Chanukah! Together\, we will play dreidel with plenty of gelt\, play games\, make candy menorahs\, and more. We hope to see you there! RSVP to Aliza Sebert at ASebert@anschechesed.org. 
URL:https://anschechesed.org/calendar-item/ac-teen-chanukah-party/
LOCATION:5th Floor North
CATEGORIES:Chanukah,Program,Teen
END:VEVENT
END:VCALENDAR