BEGIN:VCALENDAR
VERSION:2.0
PRODID:-//Ansche Chesed - ECPv5.6.0//NONSGML v1.0//EN
CALSCALE:GREGORIAN
METHOD:PUBLISH
X-WR-CALNAME:Ansche Chesed
X-ORIGINAL-URL:https://anschechesed.org
X-WR-CALDESC:Events for Ansche Chesed
BEGIN:VTIMEZONE
TZID:America/New_York
BEGIN:DAYLIGHT
TZOFFSETFROM:-0500
TZOFFSETTO:-0400
TZNAME:EDT
DTSTART:20250309T070000
END:DAYLIGHT
BEGIN:STANDARD
TZOFFSETFROM:-0400
TZOFFSETTO:-0500
TZNAME:EST
DTSTART:20251102T060000
END:STANDARD
END:VTIMEZONE
BEGIN:VEVENT
DTSTART;TZID=America/New_York:20251220T173000
DTEND;TZID=America/New_York:20251220T193000
DTSTAMP:20260424T020522
CREATED:20251202T174541Z
LAST-MODIFIED:20251209T185243Z
UID:360237-1766251800-1766259000@anschechesed.org
SUMMARY:Glow in the Dark Family Chanukah Party
DESCRIPTION:Let’s light up the night with a Glow in the Dark Chanukah Party! Experience the GLOW during a communal Chanukah candle lighting. \nEat\, sing and ‘glow in the dark’ activities! \nFor families with kids of all ages. \nLatkes will be served. \nIn partnership with Camp Ramah. \nRegister \nRegistration preferred\, walk-ins welcome. $10 per kid\, free for parents.
URL:https://anschechesed.org/calendar-item/glow-in-the-dark-family-chanukah-party-2025/
LOCATION:Ansche Chesed
CATEGORIES:Chanukah,Family Program,Program
END:VEVENT
END:VCALENDAR