BEGIN:VCALENDAR
VERSION:2.0
PRODID:-//Ansche Chesed - ECPv5.6.0//NONSGML v1.0//EN
CALSCALE:GREGORIAN
METHOD:PUBLISH
X-WR-CALNAME:Ansche Chesed
X-ORIGINAL-URL:https://anschechesed.org
X-WR-CALDESC:Events for Ansche Chesed
BEGIN:VTIMEZONE
TZID:America/New_York
BEGIN:DAYLIGHT
TZOFFSETFROM:-0500
TZOFFSETTO:-0400
TZNAME:EDT
DTSTART:20260308T070000
END:DAYLIGHT
BEGIN:STANDARD
TZOFFSETFROM:-0400
TZOFFSETTO:-0500
TZNAME:EST
DTSTART:20261101T060000
END:STANDARD
END:VTIMEZONE
BEGIN:VEVENT
DTSTART;TZID=America/New_York:20260123T183000
DTEND;TZID=America/New_York:20260123T200000
DTSTAMP:20260421T233737
CREATED:20260120T175414Z
LAST-MODIFIED:20260120T175414Z
UID:360460-1769193000-1769198400@anschechesed.org
SUMMARY:Shabbat Connections: Member-Led Potluck Dinner
DESCRIPTION:Shabbat dinner is sweeter with friends! Join us for Kabbalat Shabbat\, and then stay to connect with other AC members\, ages 40+\, over a warm\, casual potluck Shabbat dinner to deepen community ties. \nRSVP here by Tuesday\, January 20
URL:https://anschechesed.org/calendar-item/shabbat-connections-member-led-potluck-dinner/
LOCATION:Multipurpose Room\, 251 West 100th Street\, New York\, NY\, 10025\, United States
CATEGORIES:Dinner,Program
END:VEVENT
END:VCALENDAR