BEGIN:VCALENDAR
VERSION:2.0
PRODID:-//Ansche Chesed - ECPv5.6.0//NONSGML v1.0//EN
CALSCALE:GREGORIAN
METHOD:PUBLISH
X-WR-CALNAME:Ansche Chesed
X-ORIGINAL-URL:https://anschechesed.org
X-WR-CALDESC:Events for Ansche Chesed
BEGIN:VTIMEZONE
TZID:America/New_York
BEGIN:DAYLIGHT
TZOFFSETFROM:-0500
TZOFFSETTO:-0400
TZNAME:EDT
DTSTART:20260308T070000
END:DAYLIGHT
BEGIN:STANDARD
TZOFFSETFROM:-0400
TZOFFSETTO:-0500
TZNAME:EST
DTSTART:20261101T060000
END:STANDARD
END:VTIMEZONE
BEGIN:VEVENT
DTSTART;TZID=America/New_York:20260201T103000
DTEND;TZID=America/New_York:20260201T120000
DTSTAMP:20260421T100018
CREATED:20260130T204557Z
LAST-MODIFIED:20260130T204557Z
UID:360515-1769941800-1769947200@anschechesed.org
SUMMARY:"A Map Won't Help": Exhibit of Paintings\, Collages\, Works on Paper by Amy Tenenouser
DESCRIPTION:AC members and Painting/Collage Workshop participants are invited to join AC member and artist Amy Tenenouser for a free tour of her exhibit and to talk about her work. \nPlease RSVP to amytenenouser@gmail.com. \nShow will be held at: \nEl Barrio’s Art Space \n215 E. 99th St. \nLower Level \nNY\, NY 10029
URL:https://anschechesed.org/calendar-item/a-map-wont-help-exhibit-of-paintings-collages-works-on-paper-by-amy-tenenouser/
CATEGORIES:Program
END:VEVENT
BEGIN:VEVENT
DTSTART;TZID=America/New_York:20260201T130000
DTEND;TZID=America/New_York:20260201T143000
DTSTAMP:20260421T100018
CREATED:20230125T161713Z
LAST-MODIFIED:20260120T175619Z
UID:353499-1769950800-1769956200@anschechesed.org
SUMMARY:Tu B'Shevat Winter Tree Walk in Central Park
DESCRIPTION:Celebrate Tu B’Shevat with Ansche Chesed in a new way this year! Join “AC alum” Levi O’Brien on a walk in Central Park to explore tree diversity in our own neighborhood. He will guide us in winter tree identification and discuss the ecology\, historical and cultural relevance of the species encountered. Why should fall foliage and spring blossoms get all the glory?! This Tu B’Shevat\, we will learn to appreciate our beautiful\, backyard winter bounty! \nRSVP here \nWear your winter gear\, bring a thermos of hot cocoa or coffee to keep you warm\, and meet us\, location TBD! Open to adults and kids (age 6+). \nLevi O’Brien has an extensive knowledge of trees\, other plants\, and wood\, and is happiest when he’s sharing his knowledge and passion with others. An ISA certified arborist\, Levi is on faculty at the New York Botanical Garden\, where he teaches classes on woody plants\, horticulture and woodlore. He is also a guest instructor at various public gardens and arboretums in the NY/NJ and Hudson Valley areas\, and has taught Dendrology and Entomology at SUNY Environmental Science and Forestry\, where he earned his degree in Environmental Biology. Follow Levi on Instagram @Leviobrien_trees.
URL:https://anschechesed.org/calendar-item/tu-bshevat-winter-tree-walk-in-central-park/
LOCATION:Central Park
CATEGORIES:Family Program,Program
END:VEVENT
END:VCALENDAR