BEGIN:VCALENDAR
VERSION:2.0
PRODID:-//Ansche Chesed - ECPv5.6.0//NONSGML v1.0//EN
CALSCALE:GREGORIAN
METHOD:PUBLISH
X-WR-CALNAME:Ansche Chesed
X-ORIGINAL-URL:https://anschechesed.org
X-WR-CALDESC:Events for Ansche Chesed
BEGIN:VTIMEZONE
TZID:America/New_York
BEGIN:DAYLIGHT
TZOFFSETFROM:-0500
TZOFFSETTO:-0400
TZNAME:EDT
DTSTART:20260308T070000
END:DAYLIGHT
BEGIN:STANDARD
TZOFFSETFROM:-0400
TZOFFSETTO:-0500
TZNAME:EST
DTSTART:20261101T060000
END:STANDARD
END:VTIMEZONE
BEGIN:VEVENT
DTSTART;TZID=America/New_York:20260214T124500
DTEND;TZID=America/New_York:20260214T124500
DTSTAMP:20260420T125142
CREATED:20260127T220648Z
LAST-MODIFIED:20260127T220648Z
UID:360497-1771073100-1771073100@anschechesed.org
SUMMARY:Repro Shabbat: Kiddush Conversation with Meredith Nicholson of the Red Tent Fund
DESCRIPTION:Join us for Repro Shabbat to learn about the Red Tent Fund\, a national Jewish nonprofit that provides funding to abortion seekers across the country. As we honor the Jewish value of reproductive freedom\, come discuss how the Red Tent Fund works\, the particular resonance of reproductive rights in the wake of Oct. 7\, the broader abortion landscape in a post-Dobbs world\, and how you can get involved. \nRSVPs encouraged\, walk-ins welcome \n\n\n \nMeredith Nicholson is the Client Services Coordinator at the Red Tent Fund and responsible for the organization’s day-to-day operations. She brings over ten years of experience\, including two stints at the National Abortion Federation Hotline Fund and several local funds. She also has deep roots in Jewish community as an organizer – most notably\, as a member of Jews United for Justice’s core leadership team that brought paid family medical leave to Washington DC – and lay leader. \nRepro Shabbat\, organized by the National Council of Jewish Women\, is an annual Shabbat celebration that honors the Jewish value of reproductive freedom. It takes place annually on Parshat Mishpatim\, the reading of which contains the verses commonly referenced as the foundation of Judaism’s approach to reproductive health\, rights\, and justice.
URL:https://anschechesed.org/calendar-item/repro-shabbat-kiddush-conversation-with-meredith-nicholson-of-the-red-tent-fund/
LOCATION:Multipurpose Room\, 251 West 100th Street\, New York\, NY\, 10025\, United States
CATEGORIES:Program,Social Action
END:VEVENT
END:VCALENDAR